BEGIN:VCALENDAR
VERSION:2.0
PRODID:-//脱・職人アカデミー - ECPv6.8.1//NONSGML v1.0//EN
CALSCALE:GREGORIAN
METHOD:PUBLISH
X-WR-CALNAME:脱・職人アカデミー
X-ORIGINAL-URL:https://salon-labo.com
X-WR-CALDESC:脱・職人アカデミー のイベント
REFRESH-INTERVAL;VALUE=DURATION:PT1H
X-Robots-Tag:noindex
X-PUBLISHED-TTL:PT1H
BEGIN:VTIMEZONE
TZID:Asia/Tokyo
BEGIN:STANDARD
TZOFFSETFROM:+0900
TZOFFSETTO:+0900
TZNAME:JST
DTSTART:20240101T000000
END:STANDARD
END:VTIMEZONE
BEGIN:VEVENT
DTSTART;TZID=Asia/Tokyo:20240520T130000
DTEND;TZID=Asia/Tokyo:20240520T160000
DTSTAMP:20260425T120909
CREATED:20240425T161130Z
LAST-MODIFIED:20240425T161130Z
UID:8836-1716210000-1716220800@salon-labo.com
SUMMARY:【5/20＠名古屋】会社案内スライドをつくる会
DESCRIPTION:日時：5/20（月）13:00〜16:00 \n場所：JR名古屋駅近辺（申込後にご案内） \n講師：阿部祥子（脱職人＠認定講師） \n定員：１０名 \nお申し込み：https://core-ex.jp/fx/cYK0EG \n  \n※「プレミア会員」へのご入会はこちら \n鈴木和敏福島県内で10店舗の美容室をリモート化して運営。 社員の平均月収は35万以上、離職率5%以下を維持。2005年に1人でスタートし、 2015年に現場を引退。 現在は主に美容室経営のコンサルティングサポートをしている。 著書「脱・職人経営」はアマゾンレビュー280件以上で韓国でも翻訳された。
URL:https://salon-labo.com/event/20240520
END:VEVENT
END:VCALENDAR