BEGIN:VCALENDAR
VERSION:2.0
PRODID:-//脱・職人アカデミー - ECPv6.8.1//NONSGML v1.0//EN
CALSCALE:GREGORIAN
METHOD:PUBLISH
X-WR-CALNAME:脱・職人アカデミー
X-ORIGINAL-URL:https://salon-labo.com
X-WR-CALDESC:脱・職人アカデミー のイベント
REFRESH-INTERVAL;VALUE=DURATION:PT1H
X-Robots-Tag:noindex
X-PUBLISHED-TTL:PT1H
BEGIN:VTIMEZONE
TZID:Asia/Tokyo
BEGIN:STANDARD
TZOFFSETFROM:+0900
TZOFFSETTO:+0900
TZNAME:JST
DTSTART:20230101T000000
END:STANDARD
END:VTIMEZONE
BEGIN:VEVENT
DTSTART;TZID=Asia/Tokyo:20231009T140000
DTEND;TZID=Asia/Tokyo:20231009T170000
DTSTAMP:20260425T211607
CREATED:20230824T061837Z
LAST-MODIFIED:20230913T055149Z
UID:8357-1696860000-1696870800@salon-labo.com
SUMMARY:【10/9＠東京】リアル相談会
DESCRIPTION:日時：10/9（月）14:00〜17:00 \n場所：東京都内（JR神田駅近辺） \n講師：松永拓未（認定講師）、松木俊憲（認定講師）、鈴木和敏（主宰） \n定員：10名 \nお申し込み：https://core-ex.jp/fx/RvAtuC \n  \n※「プレミア会員」へのご入会はこちら \n※「BAND」へのご参加はこちら（無料） \n鈴木和敏福島県内で10店舗の美容室をリモート化して運営。 社員の平均月収は35万以上、離職率5%以下を維持。2005年に1人でスタートし、 2015年に現場を引退。 現在は主に美容室経営のコンサルティングサポートをしている。 著書「脱・職人経営」はアマゾンレビュー280件以上で韓国でも翻訳された。
URL:https://salon-labo.com/event/20231009
ATTACH;FMTTYPE=image/jpeg:https://salon-labo.com/wp-content/uploads/2023/02/IMG_3679.jpg
END:VEVENT
END:VCALENDAR