BEGIN:VCALENDAR
VERSION:2.0
PRODID:-//脱・職人アカデミー - ECPv6.8.1//NONSGML v1.0//EN
CALSCALE:GREGORIAN
METHOD:PUBLISH
X-WR-CALNAME:脱・職人アカデミー
X-ORIGINAL-URL:https://salon-labo.com
X-WR-CALDESC:脱・職人アカデミー のイベント
REFRESH-INTERVAL;VALUE=DURATION:PT1H
X-Robots-Tag:noindex
X-PUBLISHED-TTL:PT1H
BEGIN:VTIMEZONE
TZID:Asia/Tokyo
BEGIN:STANDARD
TZOFFSETFROM:+0900
TZOFFSETTO:+0900
TZNAME:JST
DTSTART:20230101T000000
END:STANDARD
END:VTIMEZONE
BEGIN:VEVENT
DTSTART;TZID=Asia/Tokyo:20230321T140000
DTEND;TZID=Asia/Tokyo:20230321T170000
DTSTAMP:20260426T090958
CREATED:20230221T153608Z
LAST-MODIFIED:20230221T162330Z
UID:7933-1679407200-1679418000@salon-labo.com
SUMMARY:【東京＠勉強会】脱職人式メニューづくり
DESCRIPTION:日時：3/21（火）14:00〜17:00 \n場所：東京都内神田駅近辺 \n講師：坂本寛樹（脱職人認定コンサル） \n定員：10名 \nお申し込み：https://core-ex.jp/fx/KRNtFm \n  \n※勉強会・イベントご招待となる「プレミア会員」へのご入会はこちら \n※専用オンラインチャット「BAND」へのご参加はこちら（無料） \n鈴木和敏福島県内で10店舗の美容室をリモート化して運営。 社員の平均月収は35万以上、離職率5%以下を維持。2005年に1人でスタートし、 2015年に現場を引退。 現在は主に美容室経営のコンサルティングサポートをしている。 著書「脱・職人経営」はアマゾンレビュー280件以上で韓国でも翻訳された。
URL:https://salon-labo.com/event/20230321
END:VEVENT
END:VCALENDAR