BEGIN:VCALENDAR
VERSION:2.0
PRODID:-//脱・職人アカデミー - ECPv6.8.1//NONSGML v1.0//EN
CALSCALE:GREGORIAN
METHOD:PUBLISH
X-ORIGINAL-URL:https://salon-labo.com
X-WR-CALDESC:脱・職人アカデミー のイベント
REFRESH-INTERVAL;VALUE=DURATION:PT1H
X-Robots-Tag:noindex
X-PUBLISHED-TTL:PT1H
BEGIN:VTIMEZONE
TZID:Asia/Tokyo
BEGIN:STANDARD
TZOFFSETFROM:+0900
TZOFFSETTO:+0900
TZNAME:JST
DTSTART:20240101T000000
END:STANDARD
END:VTIMEZONE
BEGIN:VEVENT
DTSTART;TZID=Asia/Tokyo:20240806T210000
DTEND;TZID=Asia/Tokyo:20240806T230000
DTSTAMP:20260425T050241
CREATED:20240730T164423Z
LAST-MODIFIED:20240730T164423Z
UID:8941-1722978000-1722985200@salon-labo.com
SUMMARY:【8/6@zoom】脱・個人事業！実践セミナー
DESCRIPTION:日時：8/6（火）21:00〜23:00 \n場所：zoom（無料） \n講師：寺岡純哉（認定講師） \n定員：特になし \nお申し込み：https://core-ex.jp/fx/2TcfCA \n  \n※「プレミア会員」へのご入会はこちら \n鈴木和敏福島県内で10店舗の美容室をリモート化して運営。 社員の平均月収は35万以上、離職率5%以下を維持。2005年に1人でスタートし、 2015年に現場を引退。 現在は主に美容室経営のコンサルティングサポートをしている。 著書「脱・職人経営」はアマゾンレビュー280件以上で韓国でも翻訳された。
URL:https://salon-labo.com/event/%e3%80%908-6zoom%e3%80%91%e8%84%b1%e3%83%bb%e5%80%8b%e4%ba%ba%e4%ba%8b%e6%a5%ad%ef%bc%81%e5%ae%9f%e8%b7%b5%e3%82%bb%e3%83%9f%e3%83%8a%e3%83%bc
END:VEVENT
BEGIN:VEVENT
DTSTART;TZID=Asia/Tokyo:20240826T140000
DTEND;TZID=Asia/Tokyo:20240826T190000
DTSTAMP:20260425T050241
CREATED:20240529T144720Z
LAST-MODIFIED:20240529T144800Z
UID:8860-1724680800-1724698800@salon-labo.com
SUMMARY:【8/26＠東京】実践塾2024（リモート化）
DESCRIPTION:日時：8/26（月）14:00〜17:00 \n　　　※終了後19:00まで会場内交流会 \n場所：東京都内（JR神田駅近辺） \n講師：鈴木和敏（主宰） \n定員：50名 \nお申し込み：https://core-ex.jp/fx/wrgk3l \n  \n※「プレミア会員」へのご入会はこちら \n鈴木和敏福島県内で10店舗の美容室をリモート化して運営。 社員の平均月収は35万以上、離職率5%以下を維持。2005年に1人でスタートし、 2015年に現場を引退。 現在は主に美容室経営のコンサルティングサポートをしている。 著書「脱・職人経営」はアマゾンレビュー280件以上で韓国でも翻訳された。
URL:https://salon-labo.com/event/20240826
ATTACH;FMTTYPE=image/jpeg:https://salon-labo.com/wp-content/uploads/2023/01/IMG_3230-1.jpg
END:VEVENT
END:VCALENDAR