BEGIN:VCALENDAR
VERSION:2.0
PRODID:-//脱・職人アカデミー - ECPv6.8.1//NONSGML v1.0//EN
CALSCALE:GREGORIAN
METHOD:PUBLISH
X-WR-CALNAME:脱・職人アカデミー
X-ORIGINAL-URL:https://salon-labo.com
X-WR-CALDESC:脱・職人アカデミー のイベント
REFRESH-INTERVAL;VALUE=DURATION:PT1H
X-Robots-Tag:noindex
X-PUBLISHED-TTL:PT1H
BEGIN:VTIMEZONE
TZID:Asia/Tokyo
BEGIN:STANDARD
TZOFFSETFROM:+0900
TZOFFSETTO:+0900
TZNAME:JST
DTSTART:20230101T000000
END:STANDARD
END:VTIMEZONE
BEGIN:VEVENT
DTSTART;TZID=Asia/Tokyo:20230810T130000
DTEND;TZID=Asia/Tokyo:20230810T150000
DTSTAMP:20260425T223041
CREATED:20230706T142640Z
LAST-MODIFIED:20230803T151323Z
UID:8313-1691672400-1691679600@salon-labo.com
SUMMARY:【zoom＠作業部屋】進捗＆行動プランの整理
DESCRIPTION:日時：8/10（木）13:00〜15:00 \n内容：進捗状況の確認、アクションプランの整理、質問相談会 \n対象：プレミア以上のメンバー様 \n場所：zoom（URLはメンバーログインしてご確認ください） \n　　　⇩ \n \n\n \n※「プレミア会員」へのご入会はこちら \n※「BAND」へのご参加はこちら（無料） \n鈴木和敏福島県内で10店舗の美容室をリモート化して運営。 社員の平均月収は35万以上、離職率5%以下を維持。2005年に1人でスタートし、 2015年に現場を引退。 現在は主に美容室経営のコンサルティングサポートをしている。 著書「脱・職人経営」はアマゾンレビュー280件以上で韓国でも翻訳された。
URL:https://salon-labo.com/event/20230810
END:VEVENT
BEGIN:VEVENT
DTSTART;TZID=Asia/Tokyo:20230821T140000
DTEND;TZID=Asia/Tokyo:20230821T170000
DTSTAMP:20260425T223041
CREATED:20230718T045908Z
LAST-MODIFIED:20230718T045937Z
UID:8332-1692626400-1692637200@salon-labo.com
SUMMARY:【東京＠勉強会】若手美容師の採用と育成
DESCRIPTION:日時：8/21（月）14:00〜17:00 \n場所：東京都内（JR神田駅近辺） \n講師：松木俊憲（脱職人認定講師） \n定員：10名 \nお申し込み：https://core-ex.jp/fx/gW70lO \n  \n※「プレミア会員」へのご入会はこちら \n※「BAND」へのご参加はこちら（無料） \n鈴木和敏福島県内で10店舗の美容室をリモート化して運営。 社員の平均月収は35万以上、離職率5%以下を維持。2005年に1人でスタートし、 2015年に現場を引退。 現在は主に美容室経営のコンサルティングサポートをしている。 著書「脱・職人経営」はアマゾンレビュー280件以上で韓国でも翻訳された。
URL:https://salon-labo.com/event/20230821
END:VEVENT
BEGIN:VEVENT
DTSTART;TZID=Asia/Tokyo:20230822T140000
DTEND;TZID=Asia/Tokyo:20230822T170000
DTSTAMP:20260425T223041
CREATED:20230718T045728Z
LAST-MODIFIED:20230718T045955Z
UID:8330-1692712800-1692723600@salon-labo.com
SUMMARY:【東京＠勉強会】現場を任せるニュアルづくり
DESCRIPTION:日時：8/22（火）14:00〜17:00 \n場所：東京都内（JR神田駅近辺） \n講師：原和己（脱職人サポート講師） \n定員：10名 \nお申し込み：https://core-ex.jp/fx/uziu6n \n  \n※「プレミア会員」へのご入会はこちら \n※「BAND」へのご参加はこちら（無料） \n鈴木和敏福島県内で10店舗の美容室をリモート化して運営。 社員の平均月収は35万以上、離職率5%以下を維持。2005年に1人でスタートし、 2015年に現場を引退。 現在は主に美容室経営のコンサルティングサポートをしている。 著書「脱・職人経営」はアマゾンレビュー280件以上で韓国でも翻訳された。
URL:https://salon-labo.com/event/20230822
END:VEVENT
BEGIN:VEVENT
DTSTART;TZID=Asia/Tokyo:20230828T140000
DTEND;TZID=Asia/Tokyo:20230828T180000
DTSTAMP:20260425T223041
CREATED:20230706T143117Z
LAST-MODIFIED:20230706T143117Z
UID:8317-1693231200-1693245600@salon-labo.com
SUMMARY:【東京＠合同MT】経営戦略ワークショップ
DESCRIPTION:日時：8/28（月）14:00〜18:00 \n場所：東京都内（JR神田駅近辺） \n講師：鈴木和敏 \n定員：30名 \nお申し込み：https://core-ex.jp/fx/hDEGNo \n  \n※「プレミア会員」へのご入会はこちら \n※「BAND」へのご参加はこちら（無料） \n鈴木和敏福島県内で10店舗の美容室をリモート化して運営。 社員の平均月収は35万以上、離職率5%以下を維持。2005年に1人でスタートし、 2015年に現場を引退。 現在は主に美容室経営のコンサルティングサポートをしている。 著書「脱・職人経営」はアマゾンレビュー280件以上で韓国でも翻訳された。
URL:https://salon-labo.com/event/20230828
END:VEVENT
END:VCALENDAR