BEGIN:VCALENDAR
VERSION:2.0
PRODID:-//脱・職人アカデミー - ECPv6.8.1//NONSGML v1.0//EN
CALSCALE:GREGORIAN
METHOD:PUBLISH
X-WR-CALNAME:脱・職人アカデミー
X-ORIGINAL-URL:https://salon-labo.com
X-WR-CALDESC:脱・職人アカデミー のイベント
REFRESH-INTERVAL;VALUE=DURATION:PT1H
X-Robots-Tag:noindex
X-PUBLISHED-TTL:PT1H
BEGIN:VTIMEZONE
TZID:Asia/Tokyo
BEGIN:STANDARD
TZOFFSETFROM:+0900
TZOFFSETTO:+0900
TZNAME:JST
DTSTART:20230101T000000
END:STANDARD
END:VTIMEZONE
BEGIN:VEVENT
DTSTART;TZID=Asia/Tokyo:20230403T140000
DTEND;TZID=Asia/Tokyo:20230403T170000
DTSTAMP:20260426T032524
CREATED:20230307T152348Z
LAST-MODIFIED:20230307T152348Z
UID:7980-1680530400-1680541200@salon-labo.com
SUMMARY:【東京＠勉強会】脱職人式メニューづくり
DESCRIPTION:日時：4/3（月）14:00〜17:00 \n場所：東京都内 \n講師：高山弘介（脱職人認定コンサル）、鈴木 \n定員：10名 \nお申し込み：https://core-ex.jp/fx/9lInQP \n  \n※「プレミア会員」へのご入会はこちら \n※「BAND」へのご参加はこちら（無料） \n鈴木和敏福島県内で10店舗の美容室をリモート化して運営。 社員の平均月収は35万以上、離職率5%以下を維持。2005年に1人でスタートし、 2015年に現場を引退。 現在は主に美容室経営のコンサルティングサポートをしている。 著書「脱・職人経営」はアマゾンレビュー280件以上で韓国でも翻訳された。
URL:https://salon-labo.com/event/20230403
END:VEVENT
BEGIN:VEVENT
DTSTART;TZID=Asia/Tokyo:20230404T080000
DTEND;TZID=Asia/Tokyo:20230404T170000
DTSTAMP:20260426T032524
CREATED:20230307T152613Z
LAST-MODIFIED:20230307T153030Z
UID:7984-1680595200-1680627600@salon-labo.com
SUMMARY:【東京＠勉強会】脱職人式メニューづくり
DESCRIPTION:日時：4/4（火）14:00〜17:00 \n場所：東京都内 \n講師：坂本寛樹（脱職人認定コンサル） \n定員：10名 \nお申し込み：https://core-ex.jp/fx/HUuWyl \n  \n※「プレミア会員」へのご入会はこちら \n※「BAND」へのご参加はこちら（無料） \n鈴木和敏福島県内で10店舗の美容室をリモート化して運営。 社員の平均月収は35万以上、離職率5%以下を維持。2005年に1人でスタートし、 2015年に現場を引退。 現在は主に美容室経営のコンサルティングサポートをしている。 著書「脱・職人経営」はアマゾンレビュー280件以上で韓国でも翻訳された。
URL:https://salon-labo.com/event/20230404
END:VEVENT
BEGIN:VEVENT
DTSTART;TZID=Asia/Tokyo:20230410T140000
DTEND;TZID=Asia/Tokyo:20230410T170000
DTSTAMP:20260426T032524
CREATED:20230307T152838Z
LAST-MODIFIED:20230330T161321Z
UID:7988-1681135200-1681146000@salon-labo.com
SUMMARY:【東京＠勉強会】採用攻略ブランディング
DESCRIPTION:日時：4/10（月）14:00〜17:00 \n場所：東京都内（JR神田駅近辺） \n講師：鈴木和敏 \n定員：10名 \nお申し込み：https://core-ex.jp/fx/y6rMbp \n  \n※「プレミア会員」へのご入会はこちら \n※「BAND」へのご参加はこちら（無料） \n鈴木和敏福島県内で10店舗の美容室をリモート化して運営。 社員の平均月収は35万以上、離職率5%以下を維持。2005年に1人でスタートし、 2015年に現場を引退。 現在は主に美容室経営のコンサルティングサポートをしている。 著書「脱・職人経営」はアマゾンレビュー280件以上で韓国でも翻訳された。
URL:https://salon-labo.com/event/20230410
ATTACH;FMTTYPE=image/jpeg:https://salon-labo.com/wp-content/uploads/2023/02/IMG_3679.jpg
END:VEVENT
BEGIN:VEVENT
DTSTART;TZID=Asia/Tokyo:20230411T140000
DTEND;TZID=Asia/Tokyo:20230411T170000
DTSTAMP:20260426T032524
CREATED:20230307T153003Z
LAST-MODIFIED:20230307T153057Z
UID:7991-1681221600-1681232400@salon-labo.com
SUMMARY:【東京＠勉強会】脱職人式メニューづくり
DESCRIPTION:日時：4/11（火）14:00〜17:00 \n場所：東京都内（JR神田駅近辺） \n講師：松永拓未（脱職人認定コンサル）、鈴木 \n定員：10名 \nお申し込み：https://core-ex.jp/fx/jvSV0X \n  \n※「プレミア会員」へのご入会はこちら \n※「BAND」へのご参加はこちら（無料） \n鈴木和敏福島県内で10店舗の美容室をリモート化して運営。 社員の平均月収は35万以上、離職率5%以下を維持。2005年に1人でスタートし、 2015年に現場を引退。 現在は主に美容室経営のコンサルティングサポートをしている。 著書「脱・職人経営」はアマゾンレビュー280件以上で韓国でも翻訳された。
URL:https://salon-labo.com/event/20230411
END:VEVENT
BEGIN:VEVENT
DTSTART;TZID=Asia/Tokyo:20230417T140000
DTEND;TZID=Asia/Tokyo:20230417T170000
DTSTAMP:20260426T032524
CREATED:20230315T160107Z
LAST-MODIFIED:20230402T145200Z
UID:8017-1681740000-1681750800@salon-labo.com
SUMMARY:【大阪＠勉強会】脱職人式メニューづくり
DESCRIPTION:日時：4/17（月）14:00〜17:00 \n場所：大阪市内（JR新大阪駅近辺） \n講師：松永拓未（脱職人認定コンサル） \n定員：10名 \nお申し込み：https://core-ex.jp/fx/AJM5Vq \n  \n※「プレミア会員」へのご入会はこちら \n※「BAND」へのご参加はこちら（無料） \n鈴木和敏福島県内で10店舗の美容室をリモート化して運営。 社員の平均月収は35万以上、離職率5%以下を維持。2005年に1人でスタートし、 2015年に現場を引退。 現在は主に美容室経営のコンサルティングサポートをしている。 著書「脱・職人経営」はアマゾンレビュー280件以上で韓国でも翻訳された。
URL:https://salon-labo.com/event/20230417
END:VEVENT
BEGIN:VEVENT
DTSTART;TZID=Asia/Tokyo:20230425T140000
DTEND;TZID=Asia/Tokyo:20230425T170000
DTSTAMP:20260426T032524
CREATED:20230315T155940Z
LAST-MODIFIED:20230410T153109Z
UID:8015-1682431200-1682442000@salon-labo.com
SUMMARY:【東京＠勉強会】高額サービスの作り方
DESCRIPTION:日時：4/24（火）14:00〜17:00 \n場所：東京都内（JR神田駅近辺） \n講師：杉村慶悟（脱職人認定コンサル） \n定員：10名 \nお申し込み：https://core-ex.jp/fx/6ehczS \n  \n※「プレミア会員」へのご入会はこちら \n※「BAND」へのご参加はこちら（無料） \n鈴木和敏福島県内で10店舗の美容室をリモート化して運営。 社員の平均月収は35万以上、離職率5%以下を維持。2005年に1人でスタートし、 2015年に現場を引退。 現在は主に美容室経営のコンサルティングサポートをしている。 著書「脱・職人経営」はアマゾンレビュー280件以上で韓国でも翻訳された。
URL:https://salon-labo.com/event/20230425
END:VEVENT
END:VCALENDAR